BEGIN:VCALENDAR
VERSION:2.0
PRODID:-//ChamberMaster//Event Calendar 2.0//EN
METHOD:PUBLISH
X-PUBLISHED-TTL:P3D
REFRESH-INTERVAL:P3D
CALSCALE:GREGORIAN
BEGIN:VEVENT
DTSTART:20180116T190000Z
DTEND:20180116T230000Z
X-MICROSOFT-CDO-ALLDAYEVENT:FALSE
SUMMARY:Bloodmobile Drive at Valley Fitness
DESCRIPTION:Valley Fitness is hosting a public Bloodmobile on Tuesday\, January 16 from 2 pm to 6 pm. Donors receive a thank you knit cap\, while supplies last! Walk-ins are welcome\, but appointments are encouraged. To secure your spot\, visit https://donateblood.vablood.org.
X-ALT-DESC;FMTTYPE=text/html:Valley Fitness is hosting a public Bloodmobile on Tuesday\, January 16 from 2 pm to 6 pm. Donors receive a thank you knit cap\, while supplies last! Walk-ins are welcome\, but appointments are encouraged. To secure your spot\, visit https://donateblood.vablood.org.
LOCATION:Valley Fitness 381 Lucy Drive Harrisonburg\, VA
UID:e.2338.3524
SEQUENCE:3
DTSTAMP:20260420T073101Z
URL:https://chamber.hrchamber.org/events/details/bloodmobile-drive-at-valley-fitness-01-16-2018-3524
END:VEVENT

END:VCALENDAR
