BEGIN:VCALENDAR
VERSION:2.0
PRODID:-//ChamberMaster//Event Calendar 2.0//EN
METHOD:PUBLISH
X-PUBLISHED-TTL:P3D
REFRESH-INTERVAL:P3D
CALSCALE:GREGORIAN
BEGIN:VEVENT
DTSTART:20170115T170000Z
DTEND:20170115T210000Z
X-MICROSOFT-CDO-ALLDAYEVENT:FALSE
SUMMARY:Bloodmobile Drive at Texas Steakhouse
DESCRIPTION:In honor of National Blood Donor Month\, Texas Roadhouse in Harrisonburg is sponsoring a Bloodmobile Drive on Sunday\, January 15th from 12 pm to 4 pm at their restaurant on Evelyn Byrd Avenue. Participants receive a free appetizer and tee shirt for donating! Walk-ups are welcome\, but appointments are encouraged. To secure your spot\, visit https://vadonor.org.
X-ALT-DESC;FMTTYPE=text/html:In honor of National Blood Donor Month\, Texas Roadhouse in Harrisonburg is sponsoring a Bloodmobile Drive on Sunday\, January 15th from 12 pm to 4 pm at their restaurant on Evelyn Byrd Avenue. Participants receive a free appetizer and tee shirt for donating! Walk-ups are welcome\, but appointments are encouraged. To secure your spot\, visit https://vadonor.org.
LOCATION:Texas Roadhouse\, 1860 Evelyn Byrd Avenue\, Harrisonburg
UID:e.2338.1518
SEQUENCE:3
DTSTAMP:20260421T164234Z
URL:https://chamber.hrchamber.org/events/details/bloodmobile-drive-at-texas-steakhouse-1518
END:VEVENT

END:VCALENDAR
