BEGIN:VCALENDAR
VERSION:2.0
PRODID:-//ChamberMaster//Event Calendar 2.0//EN
METHOD:PUBLISH
X-PUBLISHED-TTL:P3D
REFRESH-INTERVAL:P3D
CALSCALE:GREGORIAN
BEGIN:VEVENT
DTSTART:20180627T163000Z
DTEND:20180627T183000Z
X-MICROSOFT-CDO-ALLDAYEVENT:FALSE
SUMMARY:Bloodmobile drive at Serco
DESCRIPTION:Serco on Technology Drive in Harrisonburg is hosting a public bloodmobile drive on Wednesday\, June 27th from 12:30 pm to 2:30 pm. Donors receive a thank-you water bottle\, while supplies last!  Walk-ins are welcome\, but appointments are encouraged.  To secure your spot\, visit https://donateblood.vablood.org.  Share your health and help save lives!
X-ALT-DESC;FMTTYPE=text/html:<span style="color:black">Serco on Technology Drive in Harrisonburg is hosting a public bloodmobile drive on Wednesday\, June 27<sup>th</sup> from 12:30 pm to 2:30 pm.</span> Donors receive a thank-you water bottle\, while supplies last!&nbsp\; Walk-ins are welcome\, but appointments are encouraged.&nbsp\; To secure your spot\, visit <a href="https://donateblood.vablood.org/">https://donateblood.vablood.org</a>. <span style="color:black">&nbsp\;Share your health and help save lives!</span>
LOCATION:Serco 1450 Technology Drive Harrisonburg VA 22802
UID:e.2338.5854
SEQUENCE:3
DTSTAMP:20260420T151026Z
URL:https://chamber.hrchamber.org/events/details/bloodmobile-drive-at-serco-06-27-2018-5854
END:VEVENT

END:VCALENDAR
