BEGIN:VCALENDAR
VERSION:2.0
PRODID:-//ChamberMaster//Event Calendar 2.0//EN
METHOD:PUBLISH
X-PUBLISHED-TTL:P3D
REFRESH-INTERVAL:P3D
CALSCALE:GREGORIAN
BEGIN:VEVENT
DTSTART:20180307T173000Z
DTEND:20180307T193000Z
X-MICROSOFT-CDO-ALLDAYEVENT:FALSE
SUMMARY:Bloodmobile Drive at Serco
DESCRIPTION:Serco on Technology Drive in Harrisonburg is hosting a public Bloodmobile drive on Wednesday\, March 7 from 12:30 pm to 2:30 pm. Donors receive a thank you tee shirt\, while supplies last! Walk-ins are welcome\, but appointments are encouraged. To secure your spot\, visit https://donateblood.vablood.org.
X-ALT-DESC;FMTTYPE=text/html:Serco on Technology Drive in Harrisonburg is hosting a public Bloodmobile drive on Wednesday\, March 7 from 12:30 pm to 2:30 pm. Donors receive a thank you tee shirt\, while supplies last! Walk-ins are welcome\, but appointments are encouraged. To secure your spot\, visit https://donateblood.vablood.org.
LOCATION:Serco 1450 Technology Drive Harrisonburg VA
UID:e.2338.3648
SEQUENCE:3
DTSTAMP:20260420T100926Z
URL:https://chamber.hrchamber.org/events/details/bloodmobile-drive-at-serco-03-07-2018-3648
END:VEVENT

END:VCALENDAR
