BEGIN:VCALENDAR
VERSION:2.0
PRODID:-//ChamberMaster//Event Calendar 2.0//EN
METHOD:PUBLISH
X-PUBLISHED-TTL:P3D
REFRESH-INTERVAL:P3D
CALSCALE:GREGORIAN
BEGIN:VEVENT
DTSTART:20171214T150000Z
DTEND:20171214T190000Z
X-MICROSOFT-CDO-ALLDAYEVENT:FALSE
SUMMARY:Bloodmobile Drive at Rockingham County's Administrative Center
DESCRIPTION:The Rockingham County Administrative Center in downtown Harrisonburg is sponsoring a public Bloodmobile blood drive on Thursday\, December 14 from 10 am to 2 pm. Donors receive a thank-you tee shirt\, while supplies last! Walk-ins are welcome\, but appointments are encouraged. To secure your spot\, visit https://donateblood.vablood.org.
X-ALT-DESC;FMTTYPE=text/html:The Rockingham County Administrative Center in downtown Harrisonburg is sponsoring a public Bloodmobile blood drive on Thursday\, December 14 from 10 am to 2 pm. Donors receive a thank-you tee shirt\, while supplies last! Walk-ins are welcome\, but appointments are encouraged. To secure your spot\, visit https://donateblood.vablood.org.
LOCATION:Rockingham County Admininstrative Center 20 East Gay Street\, Harrisonburg
UID:e.2338.3347
SEQUENCE:3
DTSTAMP:20260420T055047Z
URL:https://chamber.hrchamber.org/events/details/bloodmobile-drive-at-rockingham-county-s-administrative-center-3347
END:VEVENT

END:VCALENDAR
