BEGIN:VCALENDAR
VERSION:2.0
PRODID:-//ChamberMaster//Event Calendar 2.0//EN
METHOD:PUBLISH
X-PUBLISHED-TTL:P3D
REFRESH-INTERVAL:P3D
CALSCALE:GREGORIAN
BEGIN:VEVENT
DTSTART:20170531T140000Z
DTEND:20170531T180000Z
X-MICROSOFT-CDO-ALLDAYEVENT:FALSE
SUMMARY:Bloodmobile Drive at Rockingham County Administrative Center
DESCRIPTION:The Rockingham County Administrative Center is hosting a Bloodmobile blood drive\, open to the public\, on Wednesday\, May 31st from 10 am to 2 pm. Walk-ins are welcome\, but appointments are encouraged. To secure your spot\, visit https://donateblood.vablood.org.
X-ALT-DESC;FMTTYPE=text/html:The Rockingham County Administrative Center is hosting a Bloodmobile blood drive\, open to the public\, on Wednesday\, May 31st from 10 am to 2 pm. Walk-ins are welcome\, but appointments are encouraged. To secure your spot\, visit https://donateblood.vablood.org.
LOCATION:20 East Gay Street Harrisonburg VA 22802
UID:e.2338.2709
SEQUENCE:3
DTSTAMP:20260419T192043Z
URL:https://chamber.hrchamber.org/events/details/bloodmobile-drive-at-rockingham-county-administrative-center-2709
END:VEVENT

END:VCALENDAR
