BEGIN:VCALENDAR
VERSION:2.0
PRODID:-//ChamberMaster//Event Calendar 2.0//EN
METHOD:PUBLISH
X-PUBLISHED-TTL:P3D
REFRESH-INTERVAL:P3D
CALSCALE:GREGORIAN
BEGIN:VEVENT
DTSTART:20170822T140000Z
DTEND:20170822T180000Z
X-MICROSOFT-CDO-ALLDAYEVENT:FALSE
SUMMARY:Bloodmobile Drive at Rockingham County Administrative Center
DESCRIPTION:The Rockingham County Administrative Center will be hosting a public Bloodmobile drive on Tuesday\, August 22nd from 10 am to 2 pm. Free lunch totes for all donors\, while supplies last! Walk-ins are welcome\, but appointments are encouraged. To secure your spot\, visit https://donateblood.vablood.org. Be a summer life-saver   donate blood and help save lives!
X-ALT-DESC;FMTTYPE=text/html:The Rockingham County Administrative Center will be hosting a public Bloodmobile drive on Tuesday\, August 22nd from 10 am to 2 pm. Free lunch totes for all donors\, while supplies last! Walk-ins are welcome\, but appointments are encouraged. To secure your spot\, visit https://donateblood.vablood.org. Be a summer life-saver &ndash\; donate blood and help save lives!
LOCATION:Rockingham County Administrative Center 20 East Gay Street\, Harrisonburg
UID:e.2338.3216
SEQUENCE:3
DTSTAMP:20260419T234734Z
URL:https://chamber.hrchamber.org/events/details/bloodmobile-drive-at-rockingham-county-administrative-center-08-22-2017-3216
END:VEVENT

END:VCALENDAR
