BEGIN:VCALENDAR
VERSION:2.0
PRODID:-//ChamberMaster//Event Calendar 2.0//EN
METHOD:PUBLISH
X-PUBLISHED-TTL:P3D
REFRESH-INTERVAL:P3D
CALSCALE:GREGORIAN
BEGIN:VEVENT
DTSTART:20180627T140000Z
DTEND:20180627T180000Z
X-MICROSOFT-CDO-ALLDAYEVENT:FALSE
SUMMARY:Bloodmobile drive at Rockingham County Administration Center
DESCRIPTION:The Rockingham County Administration Center is hosting a public Bloodmobile drive on Wednesday\, June 27th from 10 am to 2 pm. Donors receive a thank-you water bottle\, while supplies last!  Walk-ins are welcome\, but appointments are encouraged.  To secure your spot\, visit https://donateblood.vablood.org.  Share your health and help save lives!
X-ALT-DESC;FMTTYPE=text/html:The Rockingham County Administration Center is hosting a public Bloodmobile drive on Wednesday\, June 27<sup>th</sup> from 10 am to 2 pm. Donors receive a thank-you water bottle\, while supplies last!&nbsp\; Walk-ins are welcome\, but appointments are encouraged.&nbsp\; To secure your spot\, visit <a href="https://donateblood.vablood.org/">https://donateblood.vablood.org</a>. <span style="color:black">&nbsp\;Share your health and help save lives!</span>
LOCATION:Rockingham County Administration Center 20 East Gay Street Harrisonburg VA 22802
UID:e.2338.5852
SEQUENCE:3
DTSTAMP:20260420T151223Z
URL:https://chamber.hrchamber.org/events/details/bloodmobile-drive-at-rockingham-county-administration-center-5852
END:VEVENT

END:VCALENDAR
