BEGIN:VCALENDAR
VERSION:2.0
PRODID:-//ChamberMaster//Event Calendar 2.0//EN
METHOD:PUBLISH
X-PUBLISHED-TTL:P3D
REFRESH-INTERVAL:P3D
CALSCALE:GREGORIAN
BEGIN:VEVENT
DTSTART:20180717T180000Z
DTEND:20180717T220000Z
X-MICROSOFT-CDO-ALLDAYEVENT:FALSE
SUMMARY:Bloodmobile drive at Planet Fitness
DESCRIPTION:Valley Fitness is hosting a Bloodmobile drive on Tuesday\, July 17 from 2 pm to 6 pm.  Walk-ins are welcome\, but appointments are encouraged.  To secure your spot\, visit https://donateblood.vablood.org.
X-ALT-DESC;FMTTYPE=text/html:Valley Fitness is hosting a Bloodmobile drive on Tuesday\, July 17 from 2 pm to 6 pm.&nbsp\; Walk-ins are welcome\, but appointments are encouraged.&nbsp\; To secure your spot\, visit <a href="https://donateblood.vablood.org/">https://donateblood.vablood.org</a>.
LOCATION:Valley Fitness 381 Lucy Lane Harrisonburg VA 22801
UID:e.2338.5879
SEQUENCE:3
DTSTAMP:20260420T133848Z
URL:https://chamber.hrchamber.org/events/details/bloodmobile-drive-at-planet-fitness-5879
END:VEVENT

END:VCALENDAR
