BEGIN:VCALENDAR
VERSION:2.0
PRODID:-//ChamberMaster//Event Calendar 2.0//EN
METHOD:PUBLISH
X-PUBLISHED-TTL:P3D
REFRESH-INTERVAL:P3D
CALSCALE:GREGORIAN
BEGIN:VEVENT
DTSTART:20180129T150000Z
DTEND:20180129T190000Z
X-MICROSOFT-CDO-ALLDAYEVENT:FALSE
SUMMARY:Bloodmobile Drive at Lowe's
DESCRIPTION:The Harrisonburg Lowe's is hosting a public Bloodmobile on Monday\, January 29 from 10 am to 2 pm. Donors receive a thank you knit cap\, while supplies last! Walk-ins are welcome\, but appointments are encouraged. To secure your spot\, visit https://donateblood.vablood.org.
X-ALT-DESC;FMTTYPE=text/html:The Harrisonburg Lowe&#39\;s is hosting a public Bloodmobile on Monday\, January 29 from 10 am to 2 pm. Donors receive a thank you knit cap\, while supplies last! Walk-ins are welcome\, but appointments are encouraged. To secure your spot\, visit https://donateblood.vablood.org.
LOCATION:Lowe's Home Improvement 201 Linda Lane Harrisonburg\, VA
UID:e.2338.3525
SEQUENCE:3
DTSTAMP:20260420T072742Z
URL:https://chamber.hrchamber.org/events/details/bloodmobile-drive-at-lowe-s-3525
END:VEVENT

END:VCALENDAR
