BEGIN:VCALENDAR
VERSION:2.0
PRODID:-//ChamberMaster//Event Calendar 2.0//EN
METHOD:PUBLISH
X-PUBLISHED-TTL:P3D
REFRESH-INTERVAL:P3D
CALSCALE:GREGORIAN
BEGIN:VEVENT
DTSTART:20180108T170000Z
DTEND:20180108T210000Z
X-MICROSOFT-CDO-ALLDAYEVENT:FALSE
SUMMARY:Bloodmobile Drive at JMU's Memorial Hall
DESCRIPTION:The Human Resources team at JMU is hosting a public Bloodmobile drive at Memorial Hall on Monday\, January 8th from noon to 4 pm. Donors receive a thank you knit cap\, while supplies last! Walk-ins are welcome\, but appointments are encouraged. To secure your spot\, visit https://donateblood.vablood.org.
X-ALT-DESC;FMTTYPE=text/html:The Human Resources team at JMU is hosting a public Bloodmobile drive at Memorial Hall on Monday\, January 8th from noon to 4 pm. Donors receive a thank you knit cap\, while supplies last! Walk-ins are welcome\, but appointments are encouraged. To secure your spot\, visit https://donateblood.vablood.org.
LOCATION:Memorial Hall 395 South High Street Harrisonburg\, VA
UID:e.2338.3523
SEQUENCE:3
DTSTAMP:20260420T073013Z
URL:https://chamber.hrchamber.org/events/details/bloodmobile-drive-at-jmu-s-memorial-hall-3523
END:VEVENT

END:VCALENDAR
