BEGIN:VCALENDAR
VERSION:2.0
PRODID:-//ChamberMaster//Event Calendar 2.0//EN
METHOD:PUBLISH
X-PUBLISHED-TTL:P3D
REFRESH-INTERVAL:P3D
CALSCALE:GREGORIAN
BEGIN:VEVENT
DTSTART:20180312T140000Z
DTEND:20180312T180000Z
X-MICROSOFT-CDO-ALLDAYEVENT:FALSE
SUMMARY:Bloodmobile Drive at JMU Festival
DESCRIPTION:The Human Resources team at JMU is hosting a public Bloodmobile drive at the upper level of Festival on Monday\, March 12 from noon to 4 pm. Donors receive a thank you tee shirt\, while supplies last! Walk-ins are welcome\, but appointments are encouraged. To secure your spot\, visit https://donateblood.vablood.org.
X-ALT-DESC;FMTTYPE=text/html:The Human Resources team at JMU is hosting a public Bloodmobile drive at the upper level of Festival on Monday\, March 12 from noon to 4 pm. Donors receive a thank you tee shirt\, while supplies last! Walk-ins are welcome\, but appointments are encouraged. To secure your spot\, visit https://donateblood.vablood.org.
LOCATION:JMU Festival Student and Conference Center 1301 Carrier Drive Harrisonburg VA 22807
UID:e.2338.3650
SEQUENCE:3
DTSTAMP:20260420T101134Z
URL:https://chamber.hrchamber.org/events/details/bloodmobile-drive-at-jmu-festival-3650
END:VEVENT

END:VCALENDAR
