BEGIN:VCALENDAR
VERSION:2.0
PRODID:-//ChamberMaster//Event Calendar 2.0//EN
METHOD:PUBLISH
X-PUBLISHED-TTL:P3D
REFRESH-INTERVAL:P3D
CALSCALE:GREGORIAN
BEGIN:VEVENT
DTSTART:20181006T130000Z
DTEND:20181006T170000Z
X-MICROSOFT-CDO-ALLDAYEVENT:FALSE
SUMMARY:Bloodmobile drive at Home Depot
DESCRIPTION:Home Depot is hosting a public bloodmobile drive on Saturday\, October 6 from 9 am to 1 pm. Walk-ins are welcome\, but appointments are encouraged.  To secure your spot\, visit https://donateblood.vablood.org.
X-ALT-DESC;FMTTYPE=text/html:Home Depot is hosting a public bloodmobile drive on Saturday\, October 6 from 9 am to 1 pm. Walk-ins are welcome\, but appointments are encouraged.&nbsp\; To secure your spot\, visit <a href="https://donateblood.vablood.org/">https://donateblood.vablood.org</a>.
LOCATION:Home Depot 121 Burgess Road Harrisonburg VA 22801
UID:e.2338.6036
SEQUENCE:3
DTSTAMP:20260420T091314Z
URL:https://chamber.hrchamber.org/events/details/bloodmobile-drive-at-home-depot-6036
END:VEVENT

END:VCALENDAR
