BEGIN:VCALENDAR
VERSION:2.0
PRODID:-//ChamberMaster//Event Calendar 2.0//EN
METHOD:PUBLISH
X-PUBLISHED-TTL:P3D
REFRESH-INTERVAL:P3D
CALSCALE:GREGORIAN
BEGIN:VEVENT
DTSTART:20180817T130000Z
DTEND:20180817T170000Z
X-MICROSOFT-CDO-ALLDAYEVENT:FALSE
SUMMARY:Bloodmobile drive at Harrisonburg City Hall
DESCRIPTION:Harrisonburg City Hall is hosting a public Bloodmobile drive on Friday\, August 17 from 9 am to 1 pm. Tee shirts will be available as a thank you to donors\, while supplies last! Walk-ins are welcome\, but appointments are encouraged.  To secure your spot\, visit https://donateblood.vablood.org.
X-ALT-DESC;FMTTYPE=text/html:Harrisonburg City Hall is hosting a public Bloodmobile drive on Friday\, August 17 from 9 am to 1 pm. Tee shirts will be available as a thank you to donors\, while supplies last! Walk-ins are welcome\, but appointments are encouraged.&nbsp\; To secure your spot\, visit <a href="https://donateblood.vablood.org/">https://donateblood.vablood.org</a>.
LOCATION:Harrisonburg City Hall 409 South Main Street Harrisonburg VA 22802
UID:e.2338.5897
SEQUENCE:3
DTSTAMP:20260420T120227Z
URL:https://chamber.hrchamber.org/events/details/bloodmobile-drive-at-harrisonburg-city-hall-5897
END:VEVENT

END:VCALENDAR
