BEGIN:VCALENDAR
VERSION:2.0
PRODID:-//ChamberMaster//Event Calendar 2.0//EN
METHOD:PUBLISH
X-PUBLISHED-TTL:P3D
REFRESH-INTERVAL:P3D
CALSCALE:GREGORIAN
BEGIN:VEVENT
DTSTART:20180706T180000Z
DTEND:20180706T220000Z
X-MICROSOFT-CDO-ALLDAYEVENT:FALSE
SUMMARY:Bloodmobile drive at Grilled Cheese Mania
DESCRIPTION:Grilled Cheese Mania and Sunrise Church of the Brethren are hosting a public Bloodmobile drive on Friday\, July 6 from 2 pm to 6 pm.  Ball caps will be offered as a thank-you gift to donors\, while supplies last!  Walk-ins are welcome\, but appointments are encouraged.  To secure your spot\, visit https://donateblood.vablood.org.
X-ALT-DESC;FMTTYPE=text/html:Grilled Cheese Mania and Sunrise Church of the Brethren are hosting a public Bloodmobile drive on Friday\, July 6 from 2 pm to 6 pm.&nbsp\; Ball caps will be offered as a thank-you gift to donors\, while supplies last!&nbsp\; Walk-ins are welcome\, but appointments are encouraged.&nbsp\; To secure your spot\, visit <a href="https://donateblood.vablood.org/">https://donateblood.vablood.org</a>.
LOCATION:Sunrise Church of the Brethren 1496 South Main Street Harrisonburg VA 22801
UID:e.2338.5877
SEQUENCE:3
DTSTAMP:20260420T133803Z
URL:https://chamber.hrchamber.org/events/details/bloodmobile-drive-at-grilled-cheese-mania-5877
END:VEVENT

END:VCALENDAR
