BEGIN:VCALENDAR
VERSION:2.0
PRODID:-//ChamberMaster//Event Calendar 2.0//EN
METHOD:PUBLISH
X-PUBLISHED-TTL:P3D
REFRESH-INTERVAL:P3D
CALSCALE:GREGORIAN
BEGIN:VEVENT
DTSTART:20181012T140000Z
DTEND:20181012T180000Z
X-MICROSOFT-CDO-ALLDAYEVENT:FALSE
SUMMARY:Bloodmobile drive at Grand Home Furnishings
DESCRIPTION:Grand Home Furnishings in Harrisonburg is hosting a public Bloodmobile drive on Friday\, October 12 from 10 am to 2 pm. Walk-ins are welcome\, but appointments are encouraged.  To secure your spot\, visit https://donateblood.vablood.org.
X-ALT-DESC;FMTTYPE=text/html:Grand Home Furnishings in Harrisonburg is hosting a public Bloodmobile drive on Friday\, October 12 from 10 am to 2 pm. Walk-ins are welcome\, but appointments are encouraged.&nbsp\; To secure your spot\, visit <a href="https://donateblood.vablood.org/">https://donateblood.vablood.org</a>.
LOCATION:Grand Home Furnishings 2080 Evelyn Byrd Avenue Harrisonburg VA 22801
UID:e.2338.6037
SEQUENCE:3
DTSTAMP:20260420T091757Z
URL:https://chamber.hrchamber.org/events/details/bloodmobile-drive-at-grand-home-furnishings-6037
END:VEVENT

END:VCALENDAR
