BEGIN:VCALENDAR
VERSION:2.0
PRODID:-//ChamberMaster//Event Calendar 2.0//EN
METHOD:PUBLISH
X-PUBLISHED-TTL:P3D
REFRESH-INTERVAL:P3D
CALSCALE:GREGORIAN
BEGIN:VEVENT
DTSTART:20180103T123000Z
DTEND:20180103T153000Z
X-MICROSOFT-CDO-ALLDAYEVENT:FALSE
SUMMARY:Bloodmobile Drive at DEQ
DESCRIPTION:The Department of Environmental Quality on Early Drive in Harrisonburg is hosting a public Bloodmobile drive on Wednesday\, January 3 from 7:30 am to 10:30 am. Donors receive a thank you knit cap\, while supplies last! Walk-ins are welcome\, but appointments are encouraged. To secure your spot\, visit https://donateblood.vablood.org.
X-ALT-DESC;FMTTYPE=text/html:The Department of Environmental Quality on Early Drive in Harrisonburg is hosting a public Bloodmobile drive on Wednesday\, January 3 from 7:30 am to 10:30 am. Donors receive a thank you knit cap\, while supplies last! Walk-ins are welcome\, but appointments are encouraged. To secure your spot\, visit https://donateblood.vablood.org.
LOCATION:Virginia Department of Environmental Quality 4411 Early Road Harrisonburg\, VA
UID:e.2338.3520
SEQUENCE:3
DTSTAMP:20260420T072703Z
URL:https://chamber.hrchamber.org/events/details/bloodmobile-drive-at-deq-3520
END:VEVENT

END:VCALENDAR
