BEGIN:VCALENDAR
VERSION:2.0
PRODID:-//ChamberMaster//Event Calendar 2.0//EN
METHOD:PUBLISH
X-PUBLISHED-TTL:P3D
REFRESH-INTERVAL:P3D
CALSCALE:GREGORIAN
BEGIN:VEVENT
DTSTART:20180307T123000Z
DTEND:20180307T153000Z
X-MICROSOFT-CDO-ALLDAYEVENT:FALSE
SUMMARY:Bloodmobile Drive at Dept. of Environmental Quality
DESCRIPTION:The Department of Environmental Quality on Early Drive in Harrisonburg is hosting a public Bloodmobile drive on Wednesday\, March 7 from 7:30 am to 10:30 am. Donors receive a thank you tee shirt\, while supplies last! Walk-ins are welcome\, but appointments are encouraged. To secure your spot\, visit https://donateblood.vablood.org.
X-ALT-DESC;FMTTYPE=text/html:The Department of Environmental Quality on Early Drive in Harrisonburg is hosting a public Bloodmobile drive on Wednesday\, March 7 from 7:30 am to 10:30 am. Donors receive a thank you tee shirt\, while supplies last! Walk-ins are welcome\, but appointments are encouraged. To secure your spot\, visit https://donateblood.vablood.org.
LOCATION:Virginia DEQ 4411 Early Drive Harrisonburg VA 22801
UID:e.2338.3647
SEQUENCE:3
DTSTAMP:20260420T114135Z
URL:https://chamber.hrchamber.org/events/details/bloodmobile-drive-at-dept-of-environmental-quality-3647
END:VEVENT

END:VCALENDAR
