BEGIN:VCALENDAR
VERSION:2.0
PRODID:-//ChamberMaster//Event Calendar 2.0//EN
METHOD:PUBLISH
X-PUBLISHED-TTL:P3D
REFRESH-INTERVAL:P3D
CALSCALE:GREGORIAN
BEGIN:VEVENT
DTSTART:20170602T150000Z
DTEND:20170602T200000Z
X-MICROSOFT-CDO-ALLDAYEVENT:FALSE
SUMMARY:Bloodmobile Drive at Bob Wade Subaru
DESCRIPTION:Bob Wade Autoworld is hosting a Bloodmobile drive on Friday\, June 2nd from 11 am to 4 pm. Walk-ups are welcome\, but appointments are encouraged. To secure your spot\, visit https://donateblood.vablood.org. Blood supplies are critical across the country   please do your part to help save lives!
X-ALT-DESC;FMTTYPE=text/html:Bob Wade Autoworld is hosting a Bloodmobile drive on Friday\, June 2nd from 11 am to 4 pm. Walk-ups are welcome\, but appointments are encouraged. To secure your spot\, visit https://donateblood.vablood.org. Blood supplies are critical across the country &ndash\; please do your part to help save lives!
LOCATION:Bob Wade Autoworld 3005 South Main Street\, Harrisonburg VA 22801
UID:e.2338.2852
SEQUENCE:3
DTSTAMP:20260419T220930Z
URL:https://chamber.hrchamber.org/events/details/bloodmobile-drive-at-bob-wade-subaru-2852
END:VEVENT

END:VCALENDAR
