BEGIN:VCALENDAR
VERSION:2.0
PRODID:-//ChamberMaster//Event Calendar 2.0//EN
METHOD:PUBLISH
X-PUBLISHED-TTL:P3D
REFRESH-INTERVAL:P3D
CALSCALE:GREGORIAN
BEGIN:VEVENT
DTSTART:20171105T133000Z
DTEND:20171105T173000Z
X-MICROSOFT-CDO-ALLDAYEVENT:FALSE
SUMMARY:Bloodmobile Drive at Blessed Sacrement Catholic Church
DESCRIPTION:Blessed Sacrament Catholic Church is hosting a public Bloodmobile drive on Sunday\, November 5 from 8:30 am to 12:30 pm. Donors receive a thank-you tee-shirt\, while supplies last! Walk-ins are welcome\, but appointments are encouraged. To secure your spot\, visit https://donateblood.vablood.org
X-ALT-DESC;FMTTYPE=text/html:Blessed Sacrament Catholic Church is hosting a public Bloodmobile drive on Sunday\, November 5 from 8:30 am to 12:30 pm. Donors receive a thank-you tee-shirt\, while supplies last! Walk-ins are welcome\, but appointments are encouraged. To secure your spot\, visit https://donateblood.vablood.org
LOCATION:Blessed Sacrament Catholic Church 154 North Main Street\, Harrisonburg
UID:e.2338.3290
SEQUENCE:3
DTSTAMP:20260420T042142Z
URL:https://chamber.hrchamber.org/events/details/bloodmobile-drive-at-blessed-sacrement-catholic-church-3290
END:VEVENT

END:VCALENDAR
