BEGIN:VCALENDAR
VERSION:2.0
PRODID:-//ChamberMaster//Event Calendar 2.0//EN
METHOD:PUBLISH
X-PUBLISHED-TTL:P3D
REFRESH-INTERVAL:P3D
CALSCALE:GREGORIAN
BEGIN:VEVENT
DTSTART:20180107T133000Z
DTEND:20180107T173000Z
X-MICROSOFT-CDO-ALLDAYEVENT:FALSE
SUMMARY:Bloodmobile Drive at Blessed Sacrament Catholic Church
DESCRIPTION:Blessed Sacrament Catholic Church is hosting a public Bloodmobile drive on Sunday\, January 7th from 8:30 am to 12:30 pm. Donors receive a thank you knit cap\, while supplies last! Walk-ins are welcome\, but appointments are encouraged. To secure your spot\, visit https://donateblood.vablood.org.
X-ALT-DESC;FMTTYPE=text/html:Blessed Sacrament Catholic Church is hosting a public Bloodmobile drive on Sunday\, January 7th from 8:30 am to 12:30 pm. Donors receive a thank you knit cap\, while supplies last! Walk-ins are welcome\, but appointments are encouraged. To secure your spot\, visit https://donateblood.vablood.org.
LOCATION:Blessed Sacrament Catholic Church 154 North Main Street Harrisonburg\, VA
UID:e.2338.3522
SEQUENCE:3
DTSTAMP:20260420T073025Z
URL:https://chamber.hrchamber.org/events/details/bloodmobile-drive-at-blessed-sacrament-catholic-church-3522
END:VEVENT

END:VCALENDAR
