BEGIN:VCALENDAR
VERSION:2.0
PRODID:-//ChamberMaster//Event Calendar 2.0//EN
METHOD:PUBLISH
X-PUBLISHED-TTL:P3D
REFRESH-INTERVAL:P3D
CALSCALE:GREGORIAN
BEGIN:VEVENT
DTSTART:20180715T123000Z
DTEND:20180715T160000Z
X-MICROSOFT-CDO-ALLDAYEVENT:FALSE
SUMMARY:Bloodmobile drive at Blessed Sacrament Catholic Church
DESCRIPTION:Blessed Sacrament Catholic Church is hosting a Bloodmobile drive on Sunday\, July 15 from 8:30 am to 12:00 noon.  Discount coupons for Kline's Ice Cream will be offered to all donors\, while supplies last!  Walk-ins are welcome\, but appointments are encouraged.  To secure your spot\, visit https://donateblood.vablood.org.
X-ALT-DESC;FMTTYPE=text/html:Blessed Sacrament Catholic Church is hosting a Bloodmobile drive on Sunday\, July 15 from 8:30 am to 12:00 noon. &nbsp\;Discount coupons for Kline&rsquo\;s Ice Cream will be offered to all donors\, while supplies last!&nbsp\; Walk-ins are welcome\, but appointments are encouraged.&nbsp\; To secure your spot\, visit <a href="https://donateblood.vablood.org/">https://donateblood.vablood.org</a>.
LOCATION:Blessed Sacrament Catholic Church 154 North Main Street Harrisonburg VA 22802
UID:e.2338.5878
SEQUENCE:3
DTSTAMP:20260420T134159Z
URL:https://chamber.hrchamber.org/events/details/bloodmobile-drive-at-blessed-sacrament-catholic-church-07-15-2018-5878
END:VEVENT

END:VCALENDAR
