BEGIN:VCALENDAR
VERSION:2.0
PRODID:-//ChamberMaster//Event Calendar 2.0//EN
METHOD:PUBLISH
X-PUBLISHED-TTL:P3D
REFRESH-INTERVAL:P3D
CALSCALE:GREGORIAN
BEGIN:VEVENT
DTSTART:20180311T123000Z
DTEND:20180311T160000Z
X-MICROSOFT-CDO-ALLDAYEVENT:FALSE
SUMMARY:Bloodmobile Drive at Blessed Sacrament Catholic Church
DESCRIPTION:Blessed Sacrament Catholic Church is hosting a public Bloodmobile drive on Sunday\, March 11 from 8:30 am to 12:00 noon. Donors receive a thank you tee shirt\, while supplies last! Walk-ins are welcome\, but appointments are encouraged. To secure your spot\, visit https://donateblood.vablood.org.
X-ALT-DESC;FMTTYPE=text/html:Blessed Sacrament Catholic Church is hosting a public Bloodmobile drive on Sunday\, March 11 from 8:30 am to 12:00 noon. Donors receive a thank you tee shirt\, while supplies last! Walk-ins are welcome\, but appointments are encouraged. To secure your spot\, visit https://donateblood.vablood.org.
LOCATION:Blessed Sacrament Catholic Church 154 North Main Street Harrisonburg VA 22802
UID:e.2338.3649
SEQUENCE:3
DTSTAMP:20260420T101140Z
URL:https://chamber.hrchamber.org/events/details/bloodmobile-drive-at-blessed-sacrament-catholic-church-03-11-2018-3649
END:VEVENT

END:VCALENDAR
