BEGIN:VCALENDAR
VERSION:2.0
PRODID:-//ChamberMaster//Event Calendar 2.0//EN
METHOD:PUBLISH
X-PUBLISHED-TTL:P3D
REFRESH-INTERVAL:P3D
CALSCALE:GREGORIAN
BEGIN:VEVENT
DTSTART:20170703T193000Z
DTEND:20170703T233000Z
X-MICROSOFT-CDO-ALLDAYEVENT:FALSE
SUMMARY:Bloodmobile blood drive at Texas Roadhouse
DESCRIPTION:Texas Roadhouse is hosting a Bloodmobile on Monday\, July 3rd from 3:30 pm to 7:30 pm. Free appetizers for all participating donors! Walk-ups are welcome\, but appointments are encouraged. To secure your spot\, visit https://donateblood.vablood.org. Be a summer life-saver   donate blood and help save lives!
X-ALT-DESC;FMTTYPE=text/html:Texas Roadhouse is hosting a Bloodmobile on Monday\, July 3rd from 3:30 pm to 7:30 pm. Free appetizers for all participating donors! Walk-ups are welcome\, but appointments are encouraged. To secure your spot\, visit https://donateblood.vablood.org. Be a summer life-saver &ndash\; donate blood and help save lives!
LOCATION:Texas Roadhouse 1850 Evelyn Byrd Avenue Harrisonburg VA 22801
UID:e.2338.3098
SEQUENCE:3
DTSTAMP:20260419T234734Z
URL:https://chamber.hrchamber.org/events/details/bloodmobile-blood-drive-at-texas-roadhouse-3098
END:VEVENT

END:VCALENDAR
