BEGIN:VCALENDAR
VERSION:2.0
PRODID:-//ChamberMaster//Event Calendar 2.0//EN
METHOD:PUBLISH
X-PUBLISHED-TTL:P3D
REFRESH-INTERVAL:P3D
CALSCALE:GREGORIAN
BEGIN:VEVENT
DTSTART:20170704T120000Z
DTEND:20170704T160000Z
X-MICROSOFT-CDO-ALLDAYEVENT:FALSE
SUMMARY:Bloodmobile blood drive at Harrisonburg Electric Commission
DESCRIPTION:Harrisonburg Electric Commission is hosting a Bloodmobile on Tuesday\, July 4th from 8 am to 12 noon in their rear parking lot. Free tee shirts\, while supplies last\, to all donors! Walk-ups are welcome\, but appointments are encouraged. To secure your spot\, visit https://donateblood.vablood.org. Be a summer life-saver   donate blood and help save lives!
X-ALT-DESC;FMTTYPE=text/html:Harrisonburg Electric Commission is hosting a Bloodmobile on Tuesday\, July 4th from 8 am to 12 noon in their rear parking lot. Free tee shirts\, while supplies last\, to all donors! Walk-ups are welcome\, but appointments are encouraged. To secure your spot\, visit https://donateblood.vablood.org. Be a summer life-saver &ndash\; donate blood and help save lives!
LOCATION:Harrisonburg Electric Commission 89 West Bruce Street Harrisonburg VA 22801
UID:e.2338.3097
SEQUENCE:3
DTSTAMP:20260419T221805Z
URL:https://chamber.hrchamber.org/events/details/bloodmobile-blood-drive-at-harrisonburg-electric-commission-3097
END:VEVENT

END:VCALENDAR
