BEGIN:VCALENDAR
VERSION:2.0
PRODID:-//ChamberMaster//Event Calendar 2.0//EN
METHOD:PUBLISH
X-PUBLISHED-TTL:P3D
REFRESH-INTERVAL:P3D
CALSCALE:GREGORIAN
BEGIN:VEVENT
DTSTART:20170815T170000Z
DTEND:20170815T210000Z
X-MICROSOFT-CDO-ALLDAYEVENT:FALSE
SUMMARY:Bloodmobile Blood Drive at Bridgewater's Wells Fargo
DESCRIPTION:Wells Fargo on Main Street in Bridgewater will be hosting a public Bloodmobile Drive on Tuesday\, August 15th from 1 pm to 5 pm. Free lunch totes for all donors\, while supplies last! Walk-ins are welcome\, but appointments are encouraged. To secure your spot\, visit https://donateblood.vablood.org. Be a summer life-saver   donate blood and help save lives!
X-ALT-DESC;FMTTYPE=text/html:Wells Fargo on Main Street in Bridgewater will be hosting a public Bloodmobile Drive on Tuesday\, August 15th from 1 pm to 5 pm. Free lunch totes for all donors\, while supplies last! Walk-ins are welcome\, but appointments are encouraged. To secure your spot\, visit https://donateblood.vablood.org. Be a summer life-saver &ndash\; donate blood and help save lives!
LOCATION:Wells Fargo 500 North Main Street Bridgewater VA 22812
UID:e.2338.3192
SEQUENCE:3
DTSTAMP:20260420T011610Z
URL:https://chamber.hrchamber.org/events/details/bloodmobile-blood-drive-at-bridgewater-s-wells-fargo-3192
END:VEVENT

END:VCALENDAR
