BEGIN:VCALENDAR
VERSION:2.0
PRODID:-//ChamberMaster//Event Calendar 2.0//EN
METHOD:PUBLISH
X-PUBLISHED-TTL:P3D
REFRESH-INTERVAL:P3D
CALSCALE:GREGORIAN
BEGIN:VEVENT
DTSTART:20170702T123000Z
DTEND:20170702T163000Z
X-MICROSOFT-CDO-ALLDAYEVENT:FALSE
SUMMARY:Bloodmobile blood drive at Blessed Sacrament Catholic Church
DESCRIPTION:Blessed Sacrament Catholic Church is hosting a Bloodmobile on Sunday\, July 2nd from 8:30 am to 12:30 pm. Free tee shirts\, while supplies last\, to all donors! Walk-ups are welcome\, but appointments are encouraged. To secure your spot\, visit https://donateblood.vablood.org. Be a summer life-saver   donate blood and help save lives!
X-ALT-DESC;FMTTYPE=text/html:Blessed Sacrament Catholic Church is hosting a Bloodmobile on Sunday\, July 2nd from 8:30 am to 12:30 pm. Free tee shirts\, while supplies last\, to all donors! Walk-ups are welcome\, but appointments are encouraged. To secure your spot\, visit https://donateblood.vablood.org. Be a summer life-saver &ndash\; donate blood and help save lives!
LOCATION:Blessed Sacrament Catholic Church 154 North Main Street Harrisonburg VA 22802
UID:e.2338.3099
SEQUENCE:3
DTSTAMP:20260419T221817Z
URL:https://chamber.hrchamber.org/events/details/bloodmobile-blood-drive-at-blessed-sacrament-catholic-church-3099
END:VEVENT

END:VCALENDAR
