BEGIN:VCALENDAR
VERSION:2.0
PRODID:-//ChamberMaster//Event Calendar 2.0//EN
METHOD:PUBLISH
X-PUBLISHED-TTL:P3D
REFRESH-INTERVAL:P3D
CALSCALE:GREGORIAN
BEGIN:VEVENT
DTSTART:20171101T113000Z
DTEND:20171101T143000Z
X-MICROSOFT-CDO-ALLDAYEVENT:FALSE
SUMMARY:Bloodmobile at VA DEQ
DESCRIPTION:The Department of Environnmental Quality on Early Drive in Harrisonburg is hosting a public Bloodmobile drive on Wednesday\, November 1 from 7:30 am to 10:30 am. Donors receive a thank-you tee-shirt\, while supplies last! Walk-ins are welcome\, but appointments are encouraged. To secure your spot\, visit https://donateblood.vablood.org
X-ALT-DESC;FMTTYPE=text/html:The Department of Environnmental Quality on Early Drive in Harrisonburg is hosting a public Bloodmobile drive on Wednesday\, November 1 from 7:30 am to 10:30 am. Donors receive a thank-you tee-shirt\, while supplies last! Walk-ins are welcome\, but appointments are encouraged. To secure your spot\, visit https://donateblood.vablood.org
LOCATION:Virginia Department of Environmental Quality 4411 Early Road\, Harrisonburg VA
UID:e.2338.3288
SEQUENCE:3
DTSTAMP:20260420T054319Z
URL:https://chamber.hrchamber.org/events/details/bloodmobile-at-va-deq-3288
END:VEVENT

END:VCALENDAR
