BEGIN:VCALENDAR
VERSION:2.0
PRODID:-//ChamberMaster//Event Calendar 2.0//EN
METHOD:PUBLISH
X-PUBLISHED-TTL:P3D
REFRESH-INTERVAL:P3D
CALSCALE:GREGORIAN
BEGIN:VEVENT
DTSTART:20170819T130000Z
DTEND:20170819T180000Z
X-MICROSOFT-CDO-ALLDAYEVENT:FALSE
SUMMARY:Blood drive in Memory of Jameson Lam
DESCRIPTION:The Grottoes Rescue Squad is hosting a blood drive in memory of Jameson Lam on Saturday\, August 19th from 9:00 am to 2:00 pm. "Bubby" was known for his beautiful smile   he enjoyed playing with his toy trucks\, as well as watching Finding Nemo\, Cars\, and Thomas the Tank Engine. Walk-ins are welcome\, but appointments are encouraged. To secure your spot\, visit https://donateblood.vablood.org. Be a summer life-saver   donate blood and help save lives!
X-ALT-DESC;FMTTYPE=text/html:The Grottoes Rescue Squad is hosting a blood drive in memory of Jameson Lam on Saturday\, August 19th from 9:00 am to 2:00 pm. &ldquo\;Bubby&rdquo\; was known for his beautiful smile &ndash\; he enjoyed playing with his toy trucks\, as well as watching Finding Nemo\, Cars\, and Thomas the Tank Engine. Walk-ins are welcome\, but appointments are encouraged. To secure your spot\, visit https://donateblood.vablood.org. Be a summer life-saver &ndash\; donate blood and help save lives!
LOCATION:Grottoes Rescue Squad 805 Augusta Street Grottoes
UID:e.2338.3191
SEQUENCE:3
DTSTAMP:20260419T234632Z
URL:https://chamber.hrchamber.org/events/details/blood-drive-in-memory-of-jameson-lam-3191
END:VEVENT

END:VCALENDAR
