BEGIN:VCALENDAR
VERSION:2.0
PRODID:-//ChamberMaster//Event Calendar 2.0//EN
METHOD:PUBLISH
X-PUBLISHED-TTL:P3D
REFRESH-INTERVAL:P3D
CALSCALE:GREGORIAN
BEGIN:VEVENT
DTSTART:20180818T130000Z
DTEND:20180818T180000Z
X-MICROSOFT-CDO-ALLDAYEVENT:FALSE
SUMMARY:Blood drive in Memory of Jameson Lam
DESCRIPTION:A public blood drive in memory of Jameson Lam will be held at the Grottoes Rescue Squad on Saturday\, August 18 form 9 am to 2 pm. Items will also be collected to support RonaldMcDonald House in Charlottesville.  Walk-ins are welcome\, but appointments are encouraged.  To secure your spot\, visit https://donateblood.vablood.org.
X-ALT-DESC;FMTTYPE=text/html:A public blood drive in memory of Jameson Lam will be held at the Grottoes Rescue Squad on Saturday\, August 18 form 9 am to 2 pm. Items will also be collected to support RonaldMcDonald House in Charlottesville.&nbsp\; Walk-ins are welcome\, but appointments are encouraged.&nbsp\; To secure your spot\, visit <a href="https://donateblood.vablood.org/">https://donateblood.vablood.org</a>.
LOCATION:Grottoes Rescue Squad 805 Augusta Avenue Grottoes VA 24441
UID:e.2338.5919
SEQUENCE:3
DTSTAMP:20260420T120337Z
URL:https://chamber.hrchamber.org/events/details/blood-drive-in-memory-of-jameson-lam-08-18-2018-5919
END:VEVENT

END:VCALENDAR
