BEGIN:VCALENDAR
VERSION:2.0
PRODID:-//ChamberMaster//Event Calendar 2.0//EN
METHOD:PUBLISH
X-PUBLISHED-TTL:P3D
REFRESH-INTERVAL:P3D
CALSCALE:GREGORIAN
BEGIN:VEVENT
DTSTART:20170520T130000Z
DTEND:20170520T170000Z
X-MICROSOFT-CDO-ALLDAYEVENT:FALSE
SUMMARY:Blood Drive at the Annual Disaster Relief Auction
DESCRIPTION:The Shenandoah District Church of the Brethren is hosting a Bloodmobile drive at its annual Disaster Relief Auction at the Rockingham County Fairgrounds on Saturday\, May 20th from 9 am to 1 pm. Walk-ups are welcome\, but appointments are encouraged. To secure your spot\, visit https://donateblood.vablood.org. Blood supplies are critical across the country   please do your part to help save lives!
X-ALT-DESC;FMTTYPE=text/html:The Shenandoah District Church of the Brethren is hosting a Bloodmobile drive at its annual Disaster Relief Auction at the Rockingham County Fairgrounds on Saturday\, May 20th from 9 am to 1 pm. Walk-ups are welcome\, but appointments are encouraged. To secure your spot\, visit https://donateblood.vablood.org. Blood supplies are critical across the country &ndash\; please do your part to help save lives!
LOCATION:Rockingham County Fairgrounds 4808 South Valley Pike Harrisonburg VA 22801
UID:e.2338.2679
SEQUENCE:3
DTSTAMP:20260419T192125Z
URL:https://chamber.hrchamber.org/events/details/blood-drive-at-the-annual-disaster-relief-auction-2679
END:VEVENT

END:VCALENDAR
