BEGIN:VCALENDAR
VERSION:2.0
PRODID:-//ChamberMaster//Event Calendar 2.0//EN
METHOD:PUBLISH
X-PUBLISHED-TTL:P3D
REFRESH-INTERVAL:P3D
CALSCALE:GREGORIAN
BEGIN:VEVENT
DTSTART:20180728T133000Z
DTEND:20180728T173000Z
X-MICROSOFT-CDO-ALLDAYEVENT:FALSE
SUMMARY:Blood drive at Sunset Drive United Methodist Church
DESCRIPTION:Sunset Drive United Methodist Church in Broadway is hosting a public blood drive on Saturday\, July 28 from 9:30 am to 1:30 pm.  Walk-ins are welcome\, but appointments are encouraged.  To secure your spot\, visit https://donateblood.vablood.org.
X-ALT-DESC;FMTTYPE=text/html:Sunset Drive United Methodist Church in Broadway is hosting a public blood drive on Saturday\, July 28 from 9:30 am to 1:30 pm.&nbsp\; Walk-ins are welcome\, but appointments are encouraged.&nbsp\; To secure your spot\, visit <a href="https://donateblood.vablood.org/">https://donateblood.vablood.org</a>.
LOCATION:Sunset Drive United Methodist Church 127 South Sunset Drive Broadway VA 22815
UID:e.2338.5880
SEQUENCE:3
DTSTAMP:20260420T133848Z
URL:https://chamber.hrchamber.org/events/details/blood-drive-at-sunset-drive-united-methodist-church-5880
END:VEVENT

END:VCALENDAR
