BEGIN:VCALENDAR
VERSION:2.0
PRODID:-//ChamberMaster//Event Calendar 2.0//EN
METHOD:PUBLISH
X-PUBLISHED-TTL:P3D
REFRESH-INTERVAL:P3D
CALSCALE:GREGORIAN
BEGIN:VEVENT
DTSTART:20171015T133000Z
DTEND:20171015T163000Z
X-MICROSOFT-CDO-ALLDAYEVENT:FALSE
SUMMARY:Blood Drive at Otterbein United Methodist Church
DESCRIPTION:Otterbein United Methodist Church is hosting a public blood drive on Sunday\, October 15 from 9:30 am to 12:30 pm. Donors receive a thank-you tee-shirt\, while supplies last! Walk-ins are welcome\, but appointments are encouraged. To secure your spot\, visit https://donateblood.vablood.org.
X-ALT-DESC;FMTTYPE=text/html:Otterbein United Methodist Church is hosting a public blood drive on Sunday\, October 15 from 9:30 am to 12:30 pm. Donors receive a thank-you tee-shirt\, while supplies last! Walk-ins are welcome\, but appointments are encouraged. To secure your spot\, visit https://donateblood.vablood.org.
LOCATION:Otterbein United Methodist Church 176 West Market Street Harrisonburg\, VA
UID:e.2338.3267
SEQUENCE:3
DTSTAMP:20260420T024706Z
URL:https://chamber.hrchamber.org/events/details/blood-drive-at-otterbein-united-methodist-church-3267
END:VEVENT

END:VCALENDAR
