BEGIN:VCALENDAR
VERSION:2.0
PRODID:-//ChamberMaster//Event Calendar 2.0//EN
METHOD:PUBLISH
X-PUBLISHED-TTL:P3D
REFRESH-INTERVAL:P3D
CALSCALE:GREGORIAN
BEGIN:VEVENT
DTSTART:20171111T150000Z
DTEND:20171111T180000Z
X-MICROSOFT-CDO-ALLDAYEVENT:FALSE
SUMMARY:Blood Drive at Linville Creek Church of the Brethren
DESCRIPTION:Linville Creek Church of the Brethren in Broadway is hosting a public blood drive on Saturday\, November 11 from 10 am to 1 pm. Donors receive a thank-you tee-shirt\, while supplies last! Walk-ins are welcome\, but appointments are encouraged. To secure your spot\, visit https://donateblood.vablood.org
X-ALT-DESC;FMTTYPE=text/html:Linville Creek Church of the Brethren in Broadway is hosting a public blood drive on Saturday\, November 11 from 10 am to 1 pm. Donors receive a thank-you tee-shirt\, while supplies last! Walk-ins are welcome\, but appointments are encouraged. To secure your spot\, visit https://donateblood.vablood.org
LOCATION:Linville Creek Church of the Brethren 409 Brethren Road\, Broadway
UID:e.2338.3292
SEQUENCE:3
DTSTAMP:20260420T055358Z
URL:https://chamber.hrchamber.org/events/details/blood-drive-at-linville-creek-church-of-the-brethren-3292
END:VEVENT

END:VCALENDAR
