BEGIN:VCALENDAR
VERSION:2.0
PRODID:-//ChamberMaster//Event Calendar 2.0//EN
METHOD:PUBLISH
X-PUBLISHED-TTL:P3D
REFRESH-INTERVAL:P3D
CALSCALE:GREGORIAN
BEGIN:VEVENT
DTSTART:20171116T150000Z
DTEND:20171116T200000Z
X-MICROSOFT-CDO-ALLDAYEVENT:FALSE
SUMMARY:Blood Drive at JMU's Madison Union
DESCRIPTION:The JMU Rotaract Club is sponsoring a public blood drive in Madison Union on Thursday\, November 16 from 10 am to 3 pm. Donors receive a thank-you tee-shirt\, while supplies last! Walk-ins are welcome\, but appointments are encouraged. To secure your spot\, visit https://donateblood.vablood.org.
X-ALT-DESC;FMTTYPE=text/html:The JMU Rotaract Club is sponsoring a public blood drive in Madison Union on Thursday\, November 16 from 10 am to 3 pm. Donors receive a thank-you tee-shirt\, while supplies last! Walk-ins are welcome\, but appointments are encouraged. To secure your spot\, visit https://donateblood.vablood.org.
LOCATION:JMU Madison Union\, Room 256 170 Bluestone Drive\, Harrisonburg
UID:e.2338.3293
SEQUENCE:3
DTSTAMP:20260420T055048Z
URL:https://chamber.hrchamber.org/events/details/blood-drive-at-jmu-s-madison-union-3293
END:VEVENT

END:VCALENDAR
