BEGIN:VCALENDAR
VERSION:2.0
PRODID:-//ChamberMaster//Event Calendar 2.0//EN
METHOD:PUBLISH
X-PUBLISHED-TTL:P3D
REFRESH-INTERVAL:P3D
CALSCALE:GREGORIAN
BEGIN:VEVENT
DTSTART:20180321T170000Z
DTEND:20180321T210000Z
X-MICROSOFT-CDO-ALLDAYEVENT:FALSE
SUMMARY:Blood Drive at JMU's Madison Union
DESCRIPTION:JMU Club Gymnastics and Cross Country is sponsoring a blood drive in Madison Union on Wednesday\, March 21 from 1 pm to 5 pm. Donors receive a thank you tee shirt\, while supplies last! Walk-ins are welcome\, but appointments are encouraged. To secure your spot\, visit https://donateblood.vablood.org.
X-ALT-DESC;FMTTYPE=text/html:JMU Club Gymnastics and Cross Country is sponsoring a blood drive in Madison Union on Wednesday\, March 21 from 1 pm to 5 pm. Donors receive a thank you tee shirt\, while supplies last! Walk-ins are welcome\, but appointments are encouraged. To secure your spot\, visit https://donateblood.vablood.org.
LOCATION:JMU Madison Union 170 Bluestone Drive Harrisonburg VA
UID:e.2338.3652
SEQUENCE:3
DTSTAMP:20260420T101134Z
URL:https://chamber.hrchamber.org/events/details/blood-drive-at-jmu-s-madison-union-03-21-2018-3652
END:VEVENT

END:VCALENDAR
