BEGIN:VCALENDAR
VERSION:2.0
PRODID:-//ChamberMaster//Event Calendar 2.0//EN
METHOD:PUBLISH
X-PUBLISHED-TTL:P3D
REFRESH-INTERVAL:P3D
CALSCALE:GREGORIAN
BEGIN:VEVENT
DTSTART:20180110T180000Z
DTEND:20180110T230000Z
X-MICROSOFT-CDO-ALLDAYEVENT:FALSE
SUMMARY:Blood Drive at JMU's Madison Union
DESCRIPTION:JMU's Sociology Club is sponsoring a blood drive in Madison Union on Wednesday\, January 10th from 1 pm to 6 pm. Donors receive a thank you knit cap\, while supplies last! Walk-ins are welcome\, but appointments are encouraged. To secure your spot\, visit https://donateblood.vablood.org.
X-ALT-DESC;FMTTYPE=text/html:JMU&rsquo\;s Sociology Club is sponsoring a blood drive in Madison Union on Wednesday\, January 10th from 1 pm to 6 pm. Donors receive a thank you knit cap\, while supplies last! Walk-ins are welcome\, but appointments are encouraged. To secure your spot\, visit https://donateblood.vablood.org.
LOCATION:JMU Madison Union 180 Bluestone Drive Harrisonburg VA 228807
UID:e.2338.3529
SEQUENCE:3
DTSTAMP:20260420T073110Z
URL:https://chamber.hrchamber.org/events/details/blood-drive-at-jmu-s-madison-union-01-10-2018-3529
END:VEVENT

END:VCALENDAR
