BEGIN:VCALENDAR
VERSION:2.0
PRODID:-//ChamberMaster//Event Calendar 2.0//EN
METHOD:PUBLISH
X-PUBLISHED-TTL:P3D
REFRESH-INTERVAL:P3D
CALSCALE:GREGORIAN
BEGIN:VEVENT
DTSTART:20171109T170000Z
DTEND:20171109T220000Z
X-MICROSOFT-CDO-ALLDAYEVENT:FALSE
SUMMARY:Blood Drive at JMU's Festival Center
DESCRIPTION:The JMU Rotaract Club is sponsoring a public blood drive in Festival's Highlands Room on Thursday\, November 9 from 12 noon to 5 pm. Donors receive a thank-you tee-shirt\, while supplies last! Walk-ins are welcome\, but appointments are encouraged. To secure your spot\, visit https://donateblood.vablood.org.
X-ALT-DESC;FMTTYPE=text/html:The JMU Rotaract Club is sponsoring a public blood drive in Festival&rsquo\;s Highlands Room on Thursday\, November 9 from 12 noon to 5 pm. Donors receive a thank-you tee-shirt\, while supplies last! Walk-ins are welcome\, but appointments are encouraged. To secure your spot\, visit https://donateblood.vablood.org.
LOCATION:JMU Festival Conference and Student Center 1301 Carrier Drive\, Harrisonburg
UID:e.2338.3291
SEQUENCE:3
DTSTAMP:20260420T043505Z
URL:https://chamber.hrchamber.org/events/details/blood-drive-at-jmu-s-festival-center-3291
END:VEVENT

END:VCALENDAR
