BEGIN:VCALENDAR
VERSION:2.0
PRODID:-//ChamberMaster//Event Calendar 2.0//EN
METHOD:PUBLISH
X-PUBLISHED-TTL:P3D
REFRESH-INTERVAL:P3D
CALSCALE:GREGORIAN
BEGIN:VEVENT
DTSTART:20180118T180000Z
DTEND:20180118T230000Z
X-MICROSOFT-CDO-ALLDAYEVENT:FALSE
SUMMARY:Blood Drive at JMU's Festival
DESCRIPTION:JMU's Sociology Club is sponsoring a blood drive in Festival's Highland Room on Thursday\, January 18th from 1 pm to 6 pm. Donors receive a thank you knit cap\, while supplies last! Walk-ins are welcome\, but appointments are encouraged. To secure your spot\, visit https://donateblood.vablood.org.
X-ALT-DESC;FMTTYPE=text/html:JMU&rsquo\;s Sociology Club is sponsoring a blood drive in Festival&rsquo\;s Highland Room on Thursday\, January 18th from 1 pm to 6 pm. Donors receive a thank you knit cap\, while supplies last! Walk-ins are welcome\, but appointments are encouraged. To secure your spot\, visit https://donateblood.vablood.org.
LOCATION:JMU's Festival Student and Conference Center Carrier Drive\, Harrisonburg VA 22807
UID:e.2338.3530
SEQUENCE:3
DTSTAMP:20260420T073030Z
URL:https://chamber.hrchamber.org/events/details/blood-drive-at-jmu-s-festival-3530
END:VEVENT

END:VCALENDAR
