BEGIN:VCALENDAR
VERSION:2.0
PRODID:-//ChamberMaster//Event Calendar 2.0//EN
METHOD:PUBLISH
X-PUBLISHED-TTL:P3D
REFRESH-INTERVAL:P3D
CALSCALE:GREGORIAN
BEGIN:VEVENT
DTSTART:20171206T180000Z
DTEND:20171206T223000Z
X-MICROSOFT-CDO-ALLDAYEVENT:FALSE
SUMMARY:Blood Drive at JMU Madison Union
DESCRIPTION:JMU's Alpha Phi Alpha fraternity is sponsoring a public blood drive in Madison Union on Wednesday\, December 6 from 1:00 pm to 5:30 pm. Donors receive a thank-you tee-shirt\, while supplies last! Walk-ins are welcome\, but appointments are encouraged. To secure your spot\, visit https://donateblood.vablood.org..
X-ALT-DESC;FMTTYPE=text/html:JMU&rsquo\;s Alpha Phi Alpha fraternity is sponsoring a public blood drive in Madison Union on Wednesday\, December 6 from 1:00 pm to 5:30 pm. Donors receive a thank-you tee-shirt\, while supplies last! Walk-ins are welcome\, but appointments are encouraged. To secure your spot\, visit https://donateblood.vablood.org..
LOCATION:Room 256 JMU Madison Union Bluestone Drive
UID:e.2338.3346
SEQUENCE:3
DTSTAMP:20260420T055108Z
URL:https://chamber.hrchamber.org/events/details/blood-drive-at-jmu-madison-union-3346
END:VEVENT

END:VCALENDAR
