BEGIN:VCALENDAR
VERSION:2.0
PRODID:-//ChamberMaster//Event Calendar 2.0//EN
METHOD:PUBLISH
X-PUBLISHED-TTL:P3D
REFRESH-INTERVAL:P3D
CALSCALE:GREGORIAN
BEGIN:VEVENT
DTSTART:20171106T183000Z
DTEND:20171106T230000Z
X-MICROSOFT-CDO-ALLDAYEVENT:FALSE
SUMMARY:Blood Drive at JMU Festival
DESCRIPTION:The JMU Ski and Snowboard Racing Team is sponsoring a public blood drive in Festival's Allegheny Room on Monday\, December 4\, from 1:30 pm to 6:00 pm. Donors receive a thank-you tee-shirt\, while supplies last! Walk-ins are welcome\, but appointments are encouraged. To secure your spot\, visit https://donateblood.vablood.org.
X-ALT-DESC;FMTTYPE=text/html:The JMU Ski and Snowboard Racing Team is sponsoring a public blood drive in Festival&rsquo\;s Allegheny Room on Monday\, December 4\, from 1:30 pm to 6:00 pm. Donors receive a thank-you tee-shirt\, while supplies last! Walk-ins are welcome\, but appointments are encouraged. To secure your spot\, visit https://donateblood.vablood.org.
LOCATION:Allegheny Room JMU Festival Carrier Drive\, Harrisonburg
UID:e.2338.3345
SEQUENCE:3
DTSTAMP:20260420T055211Z
URL:https://chamber.hrchamber.org/events/details/blood-drive-at-jmu-festival-3345
END:VEVENT

END:VCALENDAR
