BEGIN:VCALENDAR
VERSION:2.0
PRODID:-//ChamberMaster//Event Calendar 2.0//EN
METHOD:PUBLISH
X-PUBLISHED-TTL:P3D
REFRESH-INTERVAL:P3D
CALSCALE:GREGORIAN
BEGIN:VEVENT
DTSTART:20180315T170000Z
DTEND:20180315T220000Z
X-MICROSOFT-CDO-ALLDAYEVENT:FALSE
SUMMARY:Blood Drive at JMU Festival
DESCRIPTION:JMU's Sociology Club is sponsoring a blood drive in Festival's Highland Room on Thursday\, March 15th from 1 pm to 6 pm. Donors receive a thank you tee shirt\, while supplies last! Walk-ins are welcome\, but appointments are encouraged. To secure your spot\, visit https://donateblood.vablood.org.
X-ALT-DESC;FMTTYPE=text/html:JMU&rsquo\;s Sociology Club is sponsoring a blood drive in Festival&rsquo\;s Highland Room on Thursday\, March 15th from 1 pm to 6 pm. Donors receive a thank you tee shirt\, while supplies last! Walk-ins are welcome\, but appointments are encouraged. To secure your spot\, visit https://donateblood.vablood.org.
LOCATION:JMU Festival Student and Conference Center 1301 Carrier Drive Harrisonburg VA 22807
UID:e.2338.3651
SEQUENCE:3
DTSTAMP:20260420T101603Z
URL:https://chamber.hrchamber.org/events/details/blood-drive-at-jmu-festival-03-15-2018-3651
END:VEVENT

END:VCALENDAR
