BEGIN:VCALENDAR
VERSION:2.0
PRODID:-//ChamberMaster//Event Calendar 2.0//EN
METHOD:PUBLISH
X-PUBLISHED-TTL:P3D
REFRESH-INTERVAL:P3D
CALSCALE:GREGORIAN
BEGIN:VEVENT
DTSTART:20171006T170000Z
DTEND:20171006T220000Z
X-MICROSOFT-CDO-ALLDAYEVENT:FALSE
SUMMARY:Blood Drive at Elkton Community Center
DESCRIPTION:Charles Franklin Shuler Masonic Lodge is hosting a public blood drive at the Elkton Area Community Center on Friday\, October 13\, from 1:00 pm until 6:00 pm. Donors receive a thank-you tee-shirt\, while supplies last! Walk-ins are welcome\, but appointments are encouraged. To secure your spot\, visit https://donateblood.vablood.org.
X-ALT-DESC;FMTTYPE=text/html:Charles Franklin Shuler Masonic Lodge is hosting a public blood drive at the Elkton Area Community Center on Friday\, October 13\, from 1:00 pm until 6:00 pm. Donors receive a thank-you tee-shirt\, while supplies last! Walk-ins are welcome\, but appointments are encouraged. To secure your spot\, visit https://donateblood.vablood.org.
LOCATION:Elkton Area Community Center 20593 Blue and Gold Drive Elkton VA
UID:e.2338.3266
SEQUENCE:3
DTSTAMP:20260420T024533Z
URL:https://chamber.hrchamber.org/events/details/blood-drive-at-elkton-community-center-3266
END:VEVENT

END:VCALENDAR
