BEGIN:VCALENDAR
VERSION:2.0
PRODID:-//ChamberMaster//Event Calendar 2.0//EN
METHOD:PUBLISH
X-PUBLISHED-TTL:P3D
REFRESH-INTERVAL:P3D
CALSCALE:GREGORIAN
BEGIN:VEVENT
DTSTART:20181019T180000Z
DTEND:20181019T220000Z
X-MICROSOFT-CDO-ALLDAYEVENT:FALSE
SUMMARY:Blood Drive at Elkton Area Community Center
DESCRIPTION:Elkton Area Community Center\, in conjunction with Charles Franklin Shuler Lodge #74\, is hosting a public blood drive on Friday\, October 19 from 2 pm to 6 pm. Walk-ins are welcome\, but appointments are encouraged. To secure your spot\, visit https://donateblood.vablood.org.
X-ALT-DESC;FMTTYPE=text/html:Elkton Area Community Center\, in conjunction with Charles Franklin Shuler Lodge #74\, is hosting a public blood drive on Friday\, October 19 from 2 pm to 6 pm. Walk-ins are welcome\, but appointments are encouraged.&nbsp\;To secure your spot\, visit <a href="https://donateblood.vablood.org/">https://donateblood.vablood.org</a>.
LOCATION:Elkton Area Community Centeer 20593 Blue and Gold Drive Elkton VA 22827
UID:e.2338.6040
SEQUENCE:3
DTSTAMP:20260420T091520Z
URL:https://chamber.hrchamber.org/events/details/blood-drive-at-elkton-area-community-center-6040
END:VEVENT

END:VCALENDAR
