BEGIN:VCALENDAR
VERSION:2.0
PRODID:-//ChamberMaster//Event Calendar 2.0//EN
METHOD:PUBLISH
X-PUBLISHED-TTL:P3D
REFRESH-INTERVAL:P3D
CALSCALE:GREGORIAN
BEGIN:VEVENT
DTSTART:20170615T183000Z
DTEND:20170615T233000Z
X-MICROSOFT-CDO-ALLDAYEVENT:FALSE
SUMMARY:Blood Drive at Dayton Mennonite Church
DESCRIPTION:Dayton Mennonite Church is hosting a blood drive on Thursday\, June 15th from 2:30 pm to 7:30 pm. Walk-ups are welcome\, but appointments are encouraged. To secure your spot\, visit https://donateblood.vablood.org. Blood supplies are critical across the country   please do your part to help save lives!
X-ALT-DESC;FMTTYPE=text/html:Dayton Mennonite Church is hosting a blood drive on Thursday\, June 15th from 2:30 pm to 7:30 pm. Walk-ups are welcome\, but appointments are encouraged. To secure your spot\, visit https://donateblood.vablood.org. Blood supplies are critical across the country &ndash\; please do your part to help save lives!
LOCATION:Dayton Mennonite Church 4887 John Wayland Highway Dayton VA 22821
UID:e.2338.2853
SEQUENCE:3
DTSTAMP:20260419T205415Z
URL:https://chamber.hrchamber.org/events/details/blood-drive-at-dayton-mennonite-church-2853
END:VEVENT

END:VCALENDAR
