BEGIN:VCALENDAR
VERSION:2.0
PRODID:-//ChamberMaster//Event Calendar 2.0//EN
METHOD:PUBLISH
X-PUBLISHED-TTL:P3D
REFRESH-INTERVAL:P3D
CALSCALE:GREGORIAN
BEGIN:VEVENT
DTSTART:20171214T193000Z
DTEND:20171215T003000Z
X-MICROSOFT-CDO-ALLDAYEVENT:FALSE
SUMMARY:Blood Drive at Dayton Mennonite Church
DESCRIPTION:ins are welcome\, but appointments are encouraged. To secure your spot\, visit https://donateblood.vablood.org. Dayton Mennonite Church on John Wayland Highway is sponsoring a public blood drive on Thursday\, December 14 from 2:30 pm to 7:30 pm. Donors receive a thank-you tee shirt\, while supplies last! Walk-ins are welcome\, but appointments are encouraged. To secure your spot\, please call Evelyn Brubaker at 540/828-4295.
X-ALT-DESC;FMTTYPE=text/html:ins are welcome\, but appointments are encouraged. To secure your spot\, visit https://donateblood.vablood.org. Dayton Mennonite Church on John Wayland Highway is sponsoring a public blood drive on Thursday\, December 14 from 2:30 pm to 7:30 pm. Donors receive a thank-you tee shirt\, while supplies last! Walk-ins are welcome\, but appointments are encouraged. To secure your spot\, please call Evelyn Brubaker at 540/828-4295.
LOCATION:Dayton Mennonite Church 4887 John Wayland Highway\, Dayton
UID:e.2338.3348
SEQUENCE:3
DTSTAMP:20260420T073030Z
URL:https://chamber.hrchamber.org/events/details/blood-drive-at-dayton-mennonite-church-12-14-2017-3348
END:VEVENT

END:VCALENDAR
