BEGIN:VCALENDAR
VERSION:2.0
PRODID:-//ChamberMaster//Event Calendar 2.0//EN
METHOD:PUBLISH
X-PUBLISHED-TTL:P3D
REFRESH-INTERVAL:P3D
CALSCALE:GREGORIAN
BEGIN:VEVENT
DTSTART:20180621T183000Z
DTEND:20180621T233000Z
X-MICROSOFT-CDO-ALLDAYEVENT:FALSE
SUMMARY:Blood drive at Dayton Mennonite Church
DESCRIPTION:Dayton Mennonite Church is hosting a public blood drive on Thursday\, June 21st from 2:30 pm to 7:30 pm. Donors receive a thank-you water bottle\, while supplies last!  Walk-ins are welcome\, but appointments are encouraged.  To secure your spot\, please call Evelyn Brubaker at 540/828-4295.  Share your health and help save lives!
X-ALT-DESC;FMTTYPE=text/html:Dayton Mennonite Church is hosting a public blood drive on Thursday\, June 21<sup>st</sup> from 2:30 pm to 7:30 pm. Donors receive a thank-you water bottle\, while supplies last!&nbsp\; Walk-ins are welcome\, but appointments are encouraged.&nbsp\; To secure your spot\, please call Evelyn Brubaker at 540/828-4295.&nbsp\; Share your health and help save lives!
LOCATION:Dayton Mennonite Church 4887 John Wayland Highway Dayton VA 22821
UID:e.2338.5850
SEQUENCE:3
DTSTAMP:20260420T151313Z
URL:https://chamber.hrchamber.org/events/details/blood-drive-at-dayton-mennonite-church-06-21-2018-5850
END:VEVENT

END:VCALENDAR
