BEGIN:VCALENDAR
VERSION:2.0
PRODID:-//ChamberMaster//Event Calendar 2.0//EN
METHOD:PUBLISH
X-PUBLISHED-TTL:P3D
REFRESH-INTERVAL:P3D
CALSCALE:GREGORIAN
BEGIN:VEVENT
DTSTART:20170401T130000Z
DTEND:20170401T170000Z
X-MICROSOFT-CDO-ALLDAYEVENT:FALSE
SUMMARY:Blood Drive at Bridgewater Presbyterian Church
DESCRIPTION:In honor of National Donate Life Month\, Bridgewater Presbyterian Church is hosting a blood drive on Saturday\, April 1 from 9 am to 1 pm. Participants receive a thank you tote bag for donating! Walk-ins are welcome\, but appointments are encouraged. To secure your spot\, visit https://donateblood.vablood.org.
X-ALT-DESC;FMTTYPE=text/html:In honor of National Donate Life Month\, Bridgewater Presbyterian Church is hosting a blood drive on Saturday\, April 1 from 9 am to 1 pm. Participants receive a thank you tote bag for donating! Walk-ins are welcome\, but appointments are encouraged. To secure your spot\, visit https://donateblood.vablood.org.
LOCATION:Bridgewater Presbyterian Church 110 East College Street Bridgewater VA 22812
UID:e.2338.1554
SEQUENCE:3
DTSTAMP:20260421T121453Z
URL:https://chamber.hrchamber.org/events/details/blood-drive-at-bridgewater-presbyterian-church-1554
END:VEVENT

END:VCALENDAR
