BEGIN:VCALENDAR
VERSION:2.0
PRODID:-//ChamberMaster//Event Calendar 2.0//EN
METHOD:PUBLISH
X-PUBLISHED-TTL:P3D
REFRESH-INTERVAL:P3D
CALSCALE:GREGORIAN
BEGIN:VEVENT
DTSTART:20171118T140000Z
DTEND:20171118T180000Z
X-MICROSOFT-CDO-ALLDAYEVENT:FALSE
SUMMARY:Blood Drive at Bridgewater Presbyterian Church
DESCRIPTION:Bridgewater Presbyterian Church is hosting a public blood drive on Saturday\, November 18 from 9 am to 1 pm. Donors receive a thank-you tee-shirt\, while supplies last! Walk-ins are welcome\, but appointments are encouraged. To secure your spot\, visit https://donateblood.vablood.org.
X-ALT-DESC;FMTTYPE=text/html:Bridgewater Presbyterian Church is hosting a public blood drive on Saturday\, November 18 from 9 am to 1 pm. Donors receive a thank-you tee-shirt\, while supplies last! Walk-ins are welcome\, but appointments are encouraged. To secure your spot\, visit https://donateblood.vablood.org.
LOCATION:Bridgewater Presbyterian Church 110 East Market Street\, Bridgewater
UID:e.2338.3294
SEQUENCE:3
DTSTAMP:20260420T043505Z
URL:https://chamber.hrchamber.org/events/details/blood-drive-at-bridgewater-presbyterian-church-11-18-2017-3294
END:VEVENT

END:VCALENDAR
