BEGIN:VCALENDAR
VERSION:2.0
PRODID:-//ChamberMaster//Event Calendar 2.0//EN
METHOD:PUBLISH
X-PUBLISHED-TTL:P3D
REFRESH-INTERVAL:P3D
CALSCALE:GREGORIAN
BEGIN:VEVENT
DTSTART:20171128T180000Z
DTEND:20171128T230000Z
X-MICROSOFT-CDO-ALLDAYEVENT:FALSE
SUMMARY:Blood Drive at Bridgewater College
DESCRIPTION:Bridgewater College's Funkhouser Center for Health and Wellness is hosting a public blood drive on Tuesday\, November 28th from 1 pm to 6 pm. Donors receive a thank-you tee-shirt\, while supplies last! Walk-ins are welcome\, but appointments are encouraged. To secure your spot\, visit https://donateblood.vablood.org.
X-ALT-DESC;FMTTYPE=text/html:Bridgewater College&rsquo\;s Funkhouser Center for Health and Wellness is hosting a public blood drive on Tuesday\, November 28th from 1 pm to 6 pm. Donors receive a thank-you tee-shirt\, while supplies last! Walk-ins are welcome\, but appointments are encouraged. To secure your spot\, visit https://donateblood.vablood.org.
LOCATION:Funkhouser Center for Health and Wellness Bridgewater College 117 College View Drive\, Bridgewater
UID:e.2338.3295
SEQUENCE:3
DTSTAMP:20260420T055011Z
URL:https://chamber.hrchamber.org/events/details/blood-drive-at-bridgewater-college-3295
END:VEVENT

END:VCALENDAR
